BEGIN:VCALENDAR
VERSION:2.0
PRODID:-//Newcastle Hospitals Clinical Skills Academy - ECPv6.15.20//NONSGML v1.0//EN
CALSCALE:GREGORIAN
METHOD:PUBLISH
X-ORIGINAL-URL:https://skillsacademy.newcastle-hospitals.nhs.uk
X-WR-CALDESC:Events for Newcastle Hospitals Clinical Skills Academy
REFRESH-INTERVAL;VALUE=DURATION:PT1H
X-Robots-Tag:noindex
X-PUBLISHED-TTL:PT1H
BEGIN:VTIMEZONE
TZID:Europe/London
BEGIN:DAYLIGHT
TZOFFSETFROM:+0000
TZOFFSETTO:+0100
TZNAME:BST
DTSTART:20240331T010000
END:DAYLIGHT
BEGIN:STANDARD
TZOFFSETFROM:+0100
TZOFFSETTO:+0000
TZNAME:GMT
DTSTART:20241027T010000
END:STANDARD
BEGIN:DAYLIGHT
TZOFFSETFROM:+0000
TZOFFSETTO:+0100
TZNAME:BST
DTSTART:20250330T010000
END:DAYLIGHT
BEGIN:STANDARD
TZOFFSETFROM:+0100
TZOFFSETTO:+0000
TZNAME:GMT
DTSTART:20251026T010000
END:STANDARD
BEGIN:DAYLIGHT
TZOFFSETFROM:+0000
TZOFFSETTO:+0100
TZNAME:BST
DTSTART:20260329T010000
END:DAYLIGHT
BEGIN:STANDARD
TZOFFSETFROM:+0100
TZOFFSETTO:+0000
TZNAME:GMT
DTSTART:20261025T010000
END:STANDARD
END:VTIMEZONE
BEGIN:VEVENT
DTSTART;TZID=Europe/London:20250714T090000
DTEND;TZID=Europe/London:20250714T160000
DTSTAMP:20260423T221505
CREATED:20250502T114527Z
LAST-MODIFIED:20250507T090727Z
UID:10000111-1752483600-1752508800@skillsacademy.newcastle-hospitals.nhs.uk
SUMMARY:Principles of Hand Trauma Casting and Splinting - July 2025
DESCRIPTION:During this one day course delegates will learn the theory and treatment of commonly seen hand injuries as well as basic casting techniques and skills.\nDate and time:  Monday 14th July 2025 9:00am – 4:00pm \nVenue:  Eldon Court Education Centre\, Newcastle City Centre \nFee: £175 \nCourse description\nOrthopaedic casting is a procedural skill. It requires a theoretical basis to underpin practical application and a course of guided practice. \nThe instructors leading this course will be an orthopaedic surgeon and orthopaedic practitioner specialising in casting techniques and they will be joined by a specialist hand therapist. \nThe course content will cover fractures and soft tissue trauma and explore the appropriate prescription relating to the injury including the safe application of backslabs\, casts and splinting techniques. (Please note this course does not include thermos plastic splinting.) \nThe hybrid theoretical and practical approach includes presentations\, regular Q&A sessions and assessment\, periods of reflection as well as the opportunity to practice casting\, all designed to support delegates to: \n\nreview the anatomy and physiology of common hand injuries;\nlearn from experts about the optimal management of common hand injuries;\nunderstand the principles of hand rehabilitation and splint management of common conditions;\nconsider professional accountability and legal issues associated with cast application;\nunderstand the theoretical basis to justify the decision making process in the selection of the appropriate casting technique\, focusing on prescription\, materials\, positioning\, and application process;\ndemonstrate\, in workshop conditions\, the ability to implement and evaluate a prescription plan\, including the appropriate selection and application of materials and casting techniques;\ndemonstrate\, in workshop conditions\, the clinical and practical skills required to perform safe casting techniques;\ndemonstrate an understanding and awareness of the requirements for safe removal of a cast;\nclearly articulate how the knowledge and skills gained will help develop their current competence.\n\nAudience\nThis course is aimed at: \n\ndoctors in training\,\nphysiotherapists and occupational therapists with a special interest in the treatment and rehabilitation of hand injuries and conditions\,\nnursing staff with an interest in hand injuries and conditions\,\northopaedic practitioners and plaster technicians.\n\nDelivery of the course presentations and workshop learning will be led by: \n\nMr Pat Crowley\, Consultant Plastic Surgeon with a special interest in hand and sarcoma surgery\nPaul Maher\, Senior Orthopaedic Practitioner\n\nThe delivery team will be accompanied by one of our clinical physiotherapists specialising in plastic hand surgery. \nFees \nThe practical nature of this full day course means that places are limited with a slightly high fee than a mainly theoretical course.  For further information on making payments please see our FAQ – Making Payments \nCancellation and refunds policy\nShould you no longer be able to attend the event on the booked date\, please contact the Academy as we may be able to offer an alternative date subject to an admin charge.  To cancel your place you must email nuth.newcastlehospitalsskillsacademy@nhs.net \nShould you still wish to cancel your booking\, you or your employer will be charged as per the fees outlined below. \n\n\n\nTimescale\nFee paying course\n\n\nOver 6 weeks\n£25 admin charge\n\n\n2 to 6 weeks\n50% of course fee\n\n\n0 to 2 weeks\n100% of course fee\n\n\n\nIf you do not attend on the day\, you will be charged the full cost of the event place. \nSee our Terms & Conditions and Cancellations & Refunds pages for more details.
URL:https://skillsacademy.newcastle-hospitals.nhs.uk/course/principles-of-hand-trauma-casting-and-splinting-july-2025/
LOCATION:Eldon Court (ED) – Newcastle upon Tyne\, Eldon Court\, 2 Percy Street\, Newcastle Upon Tyne\, Tyne and Wear\, NE1 7YE\, United Kingdom
CATEGORIES:Trauma casting courses
ATTACH;FMTTYPE=image/jpeg:https://skillsacademy.newcastle-hospitals.nhs.uk/wp-content/uploads/2024/07/image00023-scaled-e1722239550468.jpeg
END:VEVENT
BEGIN:VEVENT
DTSTART;TZID=Europe/London:20250715T084500
DTEND;TZID=Europe/London:20250715T164500
DTSTAMP:20260423T221505
CREATED:20250502T121509Z
LAST-MODIFIED:20251023T094212Z
UID:10000113-1752569100-1752597900@skillsacademy.newcastle-hospitals.nhs.uk
SUMMARY:Principles of Adult Trauma Casting and Splinting - July 2025
DESCRIPTION:During this one day course delegates will learn the theory and treatment of commonly seen adult orthopaedic injuries as well as basic casting techniques and skills.\nDate and time:  Tuesday 15th July 2025 8:45am – 4:45pm \nVenue:  Eldon Court Education Centre\, Newcastle City Centre \nCourse description\nOrthopaedic casting is a procedural skill. It requires a theoretical basis to underpin practical application and a course of guided practice. \nThis consultant and orthopaedic practitioner led course will explore the appropriate prescription relating to all musculoskeletal injuries including fractures and will cover the safe application of backslabs and splinting techniques. \nDelivery of the course comprises presentations and workshop learning led by specialists in their field: \n\nMr Phil Dobson\, Consultant Orthopaedic Surgeon\nMr Dan Hipps\, Orthopaedic Surgeon\nPaul Maher\, Senior Orthopaedic Practitioner\n\nThe hybrid theoretical and practical approach includes interactive presentations\, regular Q&A sessions\, assessment and periods of reflection. By the end of the course\, the delegate will be able to: \n\nunderstand the anatomy\, physiology and management of common orthopaedic injuries and trauma;\ninterpret the British Orthopaedic Association (BOA) Casting Guidelines specific to prescription and application;\nfeel confident\, when following the theoretical basis\, to make sound judgements when applying the BOA casting guidelines in the selection of the appropriate casting technique\, focusing on prescription\, materials\, positioning and application process;\ndemonstrate clinical and practical skills required to perform safe casting techniques practiced in workshop conditions.\n\nAudience\nThis course is aimed at doctors in training\, nursing staff and healthcare assistants working in an accident and emergency or urgent care setting as well as physiotherapists\, occupational therapists and nursing staff with an interest in musculoskeletal trauma and injuries. \nWe also welcome applications from orthopaedic practitioners and plaster technicians who do not currently work in a trauma setting\, or who would like to refresh their skills. \nFees\n The practical nature of this full day course means that places are limited with a slightly high fee than a mainly theoretical course.  For further information on making payments please see our FAQ – Making Payments \nCancellation and refunds policy\nShould you no longer be able to attend the event on the booked date\, please contact the Academy as we may be able to offer an alternative date subject to an admin charge.  To cancel your place you must email nuth.newcastlehospitalsskillsacademy@nhs.net \nShould you still wish to cancel your booking\, you or your employer will be charged as per the fees outlined below. \n\n\n\nTimescale\nFee paying course\n\n\nOver 6 weeks\n£25 admin charge\n\n\n2 to 6 weeks\n50% of course fee\n\n\n0 to 2 weeks\n100% of course fee\n\n\n\nIf you do not attend on the day\, you will be charged the full cost of the event place. \nSee our Terms & Conditions and Cancellations & Refunds pages for more details.
URL:https://skillsacademy.newcastle-hospitals.nhs.uk/course/principles-of-adult-trauma-casting-and-splinting-july-2025/
LOCATION:Eldon Court (ED) – Newcastle upon Tyne\, Eldon Court\, 2 Percy Street\, Newcastle Upon Tyne\, Tyne and Wear\, NE1 7YE\, United Kingdom
CATEGORIES:Trauma casting courses
ATTACH;FMTTYPE=image/jpeg:https://skillsacademy.newcastle-hospitals.nhs.uk/wp-content/uploads/2024/07/image00023-scaled-e1722239550468.jpeg
ORGANIZER;CN="Newcastle Hospitals Skills Academy":MAILTO:nuth.newcastlehospitalsskillsacademy@nhs.net
END:VEVENT
BEGIN:VEVENT
DTSTART;TZID=Europe/London:20250716T090000
DTEND;TZID=Europe/London:20250716T160000
DTSTAMP:20260423T221505
CREATED:20250502T123213Z
LAST-MODIFIED:20250520T142906Z
UID:10000114-1752656400-1752681600@skillsacademy.newcastle-hospitals.nhs.uk
SUMMARY:Principles of Paediatric Trauma Casting and Splinting - July 2025
DESCRIPTION:During this one day course delegates will learn the theory and treatment of commonly seen children’s orthopaedic injuries as well as basic casting techniques and skills.\nDate and time:  Wednesday 16th July 2025 9:00am – 4:00pm \nVenue:  Eldon Court Education Centre\, Newcastle City Centre \nFee: £175 \nCourse description\nOrthopaedic casting is a procedural skill. It requires a theoretical basis to underpin practical application and a course of guided practice. \nThis consultant and orthopaedic practitioner led course will explore the appropriate prescription relating to all paediatric musculoskeletal injuries including fractures and will cover the safe application of backslabs and splinting techniques. \nThe hybrid theoretical and practical approach of this course includes interactive presentations\, regular Q&A sessions\, assessment and periods of reflection. By the end of the day delegates will be able to: \n\nunderstand the anatomy\, physiology and management of common paediatric orthopaedic trauma and injuries;\ninterpret the British Orthopaedic Association (BOA) Casting Guidelines specific to prescription and application;\nfeel confident\, when following the theoretical basis\, to make sound judgements when applying the BOA casting guidelines in the selection of the appropriate casting technique\, focusing on prescription\, materials\, positioning\, and application process;\ndemonstrate clinical and practical skills required to perform safe casting techniques practiced in workshop conditions.\n\nAudience\nThis course is aimed at doctors in training\, nursing staff and healthcare assistants working in a paediatric accident and emergency or other urgent care setting. \nWe also welcome applications from orthopaedic practitioners and plaster technicians who do not currently work in a trauma or paediatric setting\, or who would like to refresh their skills. \nFees\n The practical nature of this full day course means that places are limited with a slightly high fee than a mainly theoretical course.  For further information on making payments please see our FAQ – Making Payments \nCancellation and refunds policy\nShould you no longer be able to attend the event on the booked date\, please contact the Academy as we may be able to offer an alternative date subject to an admin charge.  To cancel your place you must email nuth.newcastlehospitalsskillsacademy@nhs.net \nShould you still wish to cancel your booking\, you or your employer will be charged as per the fees outlined below. \n\n\n\nTimescale\nFee paying course\n\n\nOver 6 weeks\n£25 admin charge\n\n\n2 to 6 weeks\n50% of course fee\n\n\n0 to 2 weeks\n100% of course fee\n\n\n\nIf you do not attend on the day\, you will be charged the full cost of the event place. \nSee our Terms & Conditions and Cancellations & Refunds pages for more details.
URL:https://skillsacademy.newcastle-hospitals.nhs.uk/course/principles-of-paediatric-trauma-casting-and-splinting-july-2025/
LOCATION:Eldon Court (ED) – Newcastle upon Tyne\, Eldon Court\, 2 Percy Street\, Newcastle Upon Tyne\, Tyne and Wear\, NE1 7YE\, United Kingdom
CATEGORIES:Trauma casting courses
ATTACH;FMTTYPE=image/jpeg:https://skillsacademy.newcastle-hospitals.nhs.uk/wp-content/uploads/2024/07/image00023-scaled-e1722239550468.jpeg
ORGANIZER;CN="Newcastle Hospitals Skills Academy":MAILTO:nuth.newcastlehospitalsskillsacademy@nhs.net
END:VEVENT
END:VCALENDAR