BEGIN:VCALENDAR
VERSION:2.0
PRODID:-//Newcastle Hospitals Clinical Skills Academy - ECPv6.15.20//NONSGML v1.0//EN
CALSCALE:GREGORIAN
METHOD:PUBLISH
X-WR-CALNAME:Newcastle Hospitals Clinical Skills Academy
X-ORIGINAL-URL:https://skillsacademy.newcastle-hospitals.nhs.uk
X-WR-CALDESC:Events for Newcastle Hospitals Clinical Skills Academy
REFRESH-INTERVAL;VALUE=DURATION:PT1H
X-Robots-Tag:noindex
X-PUBLISHED-TTL:PT1H
BEGIN:VTIMEZONE
TZID:Europe/London
BEGIN:DAYLIGHT
TZOFFSETFROM:+0000
TZOFFSETTO:+0100
TZNAME:BST
DTSTART:20230326T010000
END:DAYLIGHT
BEGIN:STANDARD
TZOFFSETFROM:+0100
TZOFFSETTO:+0000
TZNAME:GMT
DTSTART:20231029T010000
END:STANDARD
BEGIN:DAYLIGHT
TZOFFSETFROM:+0000
TZOFFSETTO:+0100
TZNAME:BST
DTSTART:20240331T010000
END:DAYLIGHT
BEGIN:STANDARD
TZOFFSETFROM:+0100
TZOFFSETTO:+0000
TZNAME:GMT
DTSTART:20241027T010000
END:STANDARD
BEGIN:DAYLIGHT
TZOFFSETFROM:+0000
TZOFFSETTO:+0100
TZNAME:BST
DTSTART:20250330T010000
END:DAYLIGHT
BEGIN:STANDARD
TZOFFSETFROM:+0100
TZOFFSETTO:+0000
TZNAME:GMT
DTSTART:20251026T010000
END:STANDARD
END:VTIMEZONE
BEGIN:VEVENT
DTSTART;TZID=Europe/London:20241112T093000
DTEND;TZID=Europe/London:20241112T123000
DTSTAMP:20260422T152424
CREATED:20240614T122918Z
LAST-MODIFIED:20250429T144450Z
UID:10000076-1731403800-1731414600@skillsacademy.newcastle-hospitals.nhs.uk
SUMMARY:Introduction to Precision Cancer Medicine – November 2024
DESCRIPTION:The fundamental idea of precision medicine is to offer each cancer patient a treatment approach that is tailored to the unique biology and genetics of their disease. \nThis two session course provides an understanding of the concepts that underlie precision cancer medicine and both its promise and limitations. \nDr Elaine Vickers – a leading independent educator on the science of new cancer treatments – will explain how far we are able to use precision medicine by exploring the features of cancer we can target now\, and where we might get to in the future\, as well as looking at when precision medicine fails\, and why expectations and realities don’t always align. \nCourse delivery\nThe course comprises two morning sessions delivered online via Microsoft Teams: \nSession One\n\nTuesday 12 November 2024 9:30am – 12:30pm\nAn introduction to the scientific concepts that underpin the concept of precision medicine looking at the features of cancer cells that we can target\, the treatments available\, and the tests and technologies needed to match targets with treatments. Includes the example of non-squamous\, non-small cell lung cancer\, where a precision approach is often already used. \nSession Two \nTuesday 19 November 2024 9:30am – 12:30pm\nThe session focuses on the limitations and current realities of precision medicine. Elaine describes why a precision approach isn’t always possible\, or might not give the best outcome\, for every patient. \nThe session closes by exploring progress made in offering a precision-approach with three of the most common cancers: breast\, bowel\, and prostate\, and considering where we go from here. \nDelegates will be given access to recordings of all sessions for three months after completion of the course. If you are unable to attend a session the recording will ensure you can review any content you have missed. \nLearning outcomes\nBy the end of this introduction to precision cancer medicine delegates will: \n\nUnderstand what precision medicine means – the treatments we are currently working with\, what we can and can’t target and how immunotherapy fits in\nExplore the treatments we use in precision medicine – antibody-based treatments; small molecule kinase inhibitors; and immunotherapies\nRecognise testing methods and potential treatment targets – what we can test for and where to look\, testing for mutations and presence of proteins\, identifying patterns of mutations and what commercial testing platforms can tell us\nAppreciate whether or not we understand how to make a good match and why not everyone benefits from a precision-based approach\nGrasp some of the unsolved questions and limitations in precision medicine\nBe able to reflect on where we have got to\, and where we are heading\, with precision cancer medicine for lung\, breast\, bowel and prostate cancer.\n\nCourse lead\nDr Elaine Vickers PhD of Science Communicated Ltd\nDr Elaine Vickers\, PhD of Science Communicated Ltd has worked as a cancer educator for over twenty years and has previously acted as science communicator for three of the UK’s leading medical research charities\, including four years in the Science Information team at Cancer Research UK. \nElaine is passionate about demystifying the science behind cancer biology and the latest cancer treatments such as kinase inhibitors\, monoclonal antibodies and immunotherapies. \nShe is experienced in teaching people with any level of scientific or medical knowledge from cancer patients through to medical oncologists translating complex and often overwhelming topics into easily digestible and understandable knowledge\, using colourful illustrations to explain scientific concepts. \nHer book\, A Beginner’s Guide to Targeted Cancer Treatments\, was commended by the British Medical Association book awards. A second edition is due out in 2024. \nAudience\nThis content is ideal for research nurses\, clinical nurse specialists\, pharmacists\, and clinical trials coordinators. It may also be of interest to other healthcare professionals involved in the diagnosis and treatment of people with cancer\, including junior doctors. \nBooking\nTo book a place on this course go to Tickets at the bottom of the page. \nAt checkout you can make an online card payment or enter a coupon code to make alternative payment arrangements. \nAlternative payment arrangements include: \n\nrequesting an invoice (INVOICE)\,\nThe Newcastle upon Tyne Hospitals NHS Foundation Trust staff internal funding (NUTH) – you will need to complete a Trust study leave form.\n\nPlease see the Making payments & Coupons sections of the Help and FAQs.
URL:https://skillsacademy.newcastle-hospitals.nhs.uk/course/introduction-to-precision-cancer-medicine-november-2024/
LOCATION:Virtual delivery via MS Teams
ATTACH;FMTTYPE=image/jpeg:https://skillsacademy.newcastle-hospitals.nhs.uk/wp-content/uploads/2023/10/MicrosoftTeams-image-1.jpg
ORGANIZER;CN="Newcastle Hospitals Skills Academy":MAILTO:nuth.newcastlehospitalsskillsacademy@nhs.net
END:VEVENT
END:VCALENDAR